BEGIN:VCALENDAR
METHOD:PUBLISH
PRODID:-//doubleknot.com//CalenderEvent MIMEDIR//EN
VERSION:2.0
BEGIN:VEVENT
UID:3111663-20251009T220000Z-20251010T000000Z@doubleknot.com
CREATED:20250714T192336Z
LAST-MODIFIED:20250827T173918Z
DTSTAMP:20260426T010329Z
DTSTART:20251009T220000Z
DTEND:20251010T000000Z
LOCATION:5255 Detroit Rd, Sheffield Village, OH 44054, US
CATEGORIES:Age Level: Multi Level, STEM
DESCRIPTION:CLICK HERE to check capacity details. \n  \n  \n  \n Location: Girl Scout DreamLab in Sheffield \n  \n  \n Age Levels: Daisy, Brownie, Junior, Cadette, Senior, Ambassador \n  \n  \n  \n Explore the art of printmaking using foam! Sketch, carve, and press your own unique designs to create bold, colorful prints. \n  \n  \n   \n  \n  \n Registrations that can be accommodated after the close date will subject to a late fee. \n  \n  \n  \n  \n  \n  \n 
SUMMARY:Printmaking Magic
PRIORITY:5
BEGIN:VALARM
TRIGGER:PT15M
ACTION:DISPLAY
DESCRIPTION:Reminder
PRIORITY:5
END:VALARM
END:VEVENT
END:VCALENDAR
